Workbook

Sheet 志工加退保明細_特定傷害
A1: 第一產物志工團體傷害保險投保變更明細表_特定傷害
A3: 要保單位： | C3: 請填寫單位全稱
A4: 單位聯絡人： | C4: 請填寫 | F4: 聯絡電話： | G4: 請填寫
A6: 編 號 | B6: 加保 日期 | C6: 退保 日期 | D6: 被保險人基本資料 | K6: 承保項目 | L6: 項次 | M6: 每人保費 | N6: 身故保險金受益人 | P6: 被保險人國籍 (如為外國籍，請填寫國別) | Q6: 被保險人簽章 | R6: 注 意 事 項 ：
D7: 被保險人 | E7: 與要保險人關係 | F7: 身分證字號 | G7: 出生日期 | H7: 性別 | I7: 工作性質 | J7: 職業類別 | N7: 身故受益人 | O7: 與被保險人關係
A8: 範例 | B8: 115.11.6 | D8: 王小明 | E8: 志工 | F8: A22345xxx | G8: 50.01.01 | H8: 男 | I8: 如:社區關懷訪視、活動協助 | J8: 2 | K8: 特定傷害保險 | L8: 第一組/項次四 | M8: 150 | N8: 法定繼承人 | O8: 志工
A9: 1 | E9: 志工 | K9: 特定傷害保險 | N9: 法定繼承人
A10: 2 | E10: 志工 | N10: 法定繼承人
A11: 3 | E11: 志工 | N11: 法定繼承人
A12: 4 | E12: 志工 | N12: 法定繼承人
A13: 5 | E13: 志工 | N13: 法定繼承人
A14: 6 | E14: 志工 | N14: 法定繼承人
A15: 7 | E15: 志工 | N15: 法定繼承人
A16: 8 | E16: 志工 | N16: 法定繼承人
A17: 9 | E17: 志工 | N17: 法定繼承人
A18: 10 | E18: 志工 | N18: 法定繼承人
A19: 11 | E19: 志工 | N19: 法定繼承人
A20: 12 | E20: 志工 | N20: 法定繼承人 | R20: 四、若身故受益人指定非為法定繼承人，需填寫身故受益人明細表。 三、本專案商品內容詳附表說明。 二、本要保明細表為保險契約之一部份。 一、本保險須經被保險人簽章後始生效力。
A21: 13 | E21: 志工 | N21: 法定繼承人
A22: 14 | E22: 志工 | N22: 法定繼承人
A23: 15 | E23: 志工 | N23: 法定繼承人
A24: 16 | E24: 志工 | N24: 法定繼承人
A25: 17 | E25: 志工 | N25: 法定繼承人
A26: 18 | E26: 志工 | N26: 法定繼承人
A27: 19 | E27: 志工 | N27: 法定繼承人
A28: 20 | E28: 志工 | N28: 法定繼承人
A29: 21 | E29: 志工 | N29: 法定繼承人
A30: 22 | E30: 志工 | N30: 法定繼承人
A31: 23 | E31: 志工 | N31: 法定繼承人
A32: 24 | E32: 志工 | N32: 法定繼承人 | R32: 四、若身故受益人指定非為法定繼承人，需填寫身故受益人明細表。 三、本專案商品內容詳附表說明。 二、本要保明細表為保險契約之一部份。 一、本保險須經被保險人簽章後始生效力。
A33: 25 | E33: 志工 | N33: 法定繼承人
A34: 26 | E34: 志工 | N34: 法定繼承人
A35: 27 | E35: 志工 | N35: 法定繼承人
A36: 28 | E36: 志工 | N36: 法定繼承人
A37: 29 | E37: 志工 | N37: 法定繼承人
A38: 30 | E38: 志工 | N38: 法定繼承人
A39: 31 | E39: 志工 | N39: 法定繼承人
A40: 32 | E40: 志工 | N40: 法定繼承人
A41: 33 | E41: 志工 | N41: 法定繼承人
A42: 34 | E42: 志工 | N42: 法定繼承人
...

Sheet 加退保明細表_受益人
A1: 第一產物志工團體傷害保險身故受益人明細表
A2: 要保單位：
A3: 明細表編號 | B3: 被保險人 | C3: 身故受益人1 | H3: 身故受益人2
C4: 姓名 | D4: 身分證字號 | E4: 出生年月日 | F4: 與被保險人關係 | G4: 國籍 | H4: 姓名 | I4: 身分證字號 | J4: 出生年月日 | K4: 與被保險人關係 | L4: 國籍
G7: □本國籍 □外國籍： | L7: □本國籍 □外國籍：
G8: □本國籍 □外國籍： | L8: □本國籍 □外國籍：
G9: □本國籍 □外國籍： | L9: □本國籍 □外國籍：
G10: □本國籍 □外國籍： | L10: □本國籍 □外國籍：
G11: □本國籍 □外國籍： | L11: □本國籍 □外國籍：
G12: □本國籍 □外國籍： | L12: □本國籍 □外國籍：
G13: □本國籍 □外國籍： | L13: □本國籍 □外國籍：
G14: □本國籍 □外國籍： | L14: □本國籍 □外國籍：
G15: □本國籍 □外國籍： | L15: □本國籍 □外國籍：
G16: □本國籍 □外國籍： | L16: □本國籍 □外國籍：
G17: □本國籍 □外國籍： | L17: □本國籍 □外國籍：
G18: □本國籍 □外國籍： | L18: □本國籍 □外國籍：

Sheet 轉檔明細
A1: 分公司別 | B1: 批單號碼 | C1: 組別 | D1: 編號 | E1: 姓名 | F1: 身分證字號 | G1: 職業類別 | H1: 受益人 | I1: 工作內容 | J1: 死殘保額 | K1: 傷害醫療 | L1: 住院日額 | M1: 死殘保費 | N1: 傷害醫療保費 | O1: 住院日額保費 | P1: 合計保費 | Q1: 加保日 | R1: 退保日 | S1: 身分 | T1: 生日 | U1: 批改生效起日 | W1: 批改生效迄日 | Y1: 姓別 | Z1: 要與被關係 | AA1: 受與被關係1 | AB1: 90天 | AC1: Y | AD1: 備註
E2: =志工加退保明細_特定傷害!#REF! -> #REF! | F2: =志工加退保明細_特定傷害!#REF! -> #REF! | H2: =志工加退保明細_特定傷害!#REF! -> #REF! | I2: =志工加退保明細_特定傷害!#REF! -> #REF! | S2: A | T2: =志工加退保明細_特定傷害!#REF! -> #REF! | Z2: 9 | AA2: 1 | AB2: 90 | AC2: Y
E3: =志工加退保明細_特定傷害!D9 -> 0 | F3: =志工加退保明細_特定傷害!F9 -> 0 | H3: =志工加退保明細_特定傷害!N9 -> 法定繼承人 | I3: =志工加退保明細_特定傷害!I9 -> 0 | S3: A | T3: =志工加退保明細_特定傷害!G9 -> 0 | Z3: 9 | AA3: 1 | AB3: 90 | AC3: Y
E4: =志工加退保明細_特定傷害!D10 -> 0 | F4: =志工加退保明細_特定傷害!F10 -> 0 | H4: =志工加退保明細_特定傷害!N10 -> 法定繼承人 | I4: =志工加退保明細_特定傷害!I10 -> 0 | S4: A | T4: =志工加退保明細_特定傷害!G10 -> 0 | Z4: 9 | AA4: 1 | AB4: 90 | AC4: Y
E5: =志工加退保明細_特定傷害!D11 -> 0 | F5: =志工加退保明細_特定傷害!F11 -> 0 | H5: =志工加退保明細_特定傷害!N11 -> 法定繼承人 | I5: =志工加退保明細_特定傷害!I11 -> 0 | S5: A | T5: =志工加退保明細_特定傷害!G11 -> 0 | Z5: 9 | AA5: 1 | AB5: 90 | AC5: Y
E6: =志工加退保明細_特定傷害!D12 -> 0 | F6: =志工加退保明細_特定傷害!F12 -> 0 | H6: =志工加退保明細_特定傷害!N12 -> 法定繼承人 | I6: =志工加退保明細_特定傷害!I12 -> 0 | S6: A | T6: =志工加退保明細_特定傷害!G12 -> 0 | Z6: 9 | AA6: 1 | AB6: 90 | AC6: Y
E7: =志工加退保明細_特定傷害!D13 -> 0 | F7: =志工加退保明細_特定傷害!F13 -> 0 | H7: =志工加退保明細_特定傷害!N13 -> 法定繼承人 | I7: =志工加退保明細_特定傷害!I13 -> 0 | S7: A | T7: =志工加退保明細_特定傷害!G13 -> 0 | Z7: 9 | AA7: 1 | AB7: 90 | AC7: Y
E8: =志工加退保明細_特定傷害!D14 -> 0 | F8: =志工加退保明細_特定傷害!F14 -> 0 | H8: =志工加退保明細_特定傷害!N14 -> 法定繼承人 | I8: =志工加退保明細_特定傷害!I14 -> 0 | S8: A | T8: =志工加退保明細_特定傷害!G14 -> 0 | Z8: 9 | AA8: 1 | AB8: 90 | AC8: Y
E9: =志工加退保明細_特定傷害!D15 -> 0 | F9: =志工加退保明細_特定傷害!F15 -> 0 | H9: =志工加退保明細_特定傷害!N15 -> 法定繼承人 | I9: =志工加退保明細_特定傷害!I15 -> 0 | S9: A | T9: =志工加退保明細_特定傷害!G15 -> 0 | Z9: 9 | AA9: 1 | AB9: 90 | AC9: Y
E10: =志工加退保明細_特定傷害!D16 -> 0 | F10: =志工加退保明細_特定傷害!F16 -> 0 | H10: =志工加退保明細_特定傷害!N16 -> 法定繼承人 | I10: =志工加退保明細_特定傷害!I16 -> 0 | S10: A | T10: =志工加退保明細_特定傷害!G16 -> 0 | Z10: 9 | AA10: 1 | AB10: 90 | AC10: Y
E11: =志工加退保明細_特定傷害!D17 -> 0 | F11: =志工加退保明細_特定傷害!F17 -> 0 | H11: =志工加退保明細_特定傷害!N17 -> 法定繼承人 | I11: =志工加退保明細_特定傷害!I17 -> 0 | S11: A | T11: =志工加退保明細_特定傷害!G17 -> 0 | Z11: 9 | AA11: 1 | AB11: 90 | AC11: Y
E12: =志工加退保明細_特定傷害!D18 -> 0 | F12: =志工加退保明細_特定傷害!F18 -> 0 | H12: =志工加退保明細_特定傷害!N18 -> 法定繼承人 | I12: =志工加退保明細_特定傷害!I18 -> 0 | S12: A | T12: =志工加退保明細_特定傷害!G18 -> 0 | Z12: 9 | AA12: 1 | AB12: 90 | AC12: Y
E13: =志工加退保明細_特定傷害!D19 -> 0 | F13: =志工加退保明細_特定傷害!F19 -> 0 | H13: =志工加退保明細_特定傷害!N19 -> 法定繼承人 | I13: =志工加退保明細_特定傷害!I19 -> 0 | S13: A | T13: =志工加退保明細_特定傷害!G19 -> 0 | Z13: 9 | AA13: 1 | AB13: 90 | AC13: Y
E14: =志工加退保明細_特定傷害!D20 -> 0 | F14: =志工加退保明細_特定傷害!F20 -> 0 | H14: =志工加退保明細_特定傷害!N20 -> 法定繼承人 | I14: =志工加退保明細_特定傷害!I20 -> 0 | S14: A | T14: =志工加退保明細_特定傷害!G20 -> 0 | Z14: 9 | AA14: 1 | AB14: 90 | AC14: Y
... E61: =志工加退保明細_特定傷害!D67 -> 0 | F61: =志工加退保明細_特定傷害!F67 -> 0 | H61: =志工加退保明細_特定傷害!N67 -> 法定繼承人 | I61: =志工加退保明細_特定傷害!I67 -> 0 | S61: A | T61: =志工加退保明細_特定傷害!G67 -> 0 | Z61: 9 | AA61: 1 | AB61: 90 | AC61: Y
E62: =志工加退保明細_特定傷害!#REF! -> #REF! | F62: =志工加退保明細_特定傷害!#REF! -> #REF! | H62: =志工加退保明細_特定傷害!#REF! -> #REF! | I62: =志工加退保明細_特定傷害!#REF! -> #REF! | S62: A | T62: =志工加退保明細_特定傷害!#REF! -> #REF! | Z62: 9 | AA62: 1 | AB62: 90 | AC62: Y
E63: =志工加退保明細_特定傷害!#REF! -> #REF! | F63: =志工加退保明細_特定傷害!#REF! -> #REF! | H63: =志工加退保明細_特定傷害!#REF! -> #REF! | I63: =志工加退保明細_特定傷害!#REF! -> #REF! | S63: A | T63: =志工加退保明細_特定傷害!#REF! -> #REF! | Z63: 9 | AA63: 1 | AB63: 90 | AC63: Y
E64: =志工加退保明細_特定傷害!#REF! -> #REF! | F64: =志工加退保明細_特定傷害!#REF! -> #REF! | H64: =志工加退保明細_特定傷害!#REF! -> #REF! | I64: =志工加退保明細_特定傷害!#REF! -> #REF! | S64: A | T64: =志工加退保明細_特定傷害!#REF! -> #REF! | Z64: 9 | AA64: 1 | AB64: 90 | AC64: Y
E65: =志工加退保明細_特定傷害!#REF! -> #REF! | F65: =志工加退保明細_特定傷害!#REF! -> #REF! | H65: =志工加退保明細_特定傷害!#REF! -> #REF! | I65: =志工加退保明細_特定傷害!#REF! -> #REF! | S65: A | T65: =志工加退保明細_特定傷害!#REF! -> #REF! | Z65: 9 | AA65: 1 | AB65: 90 | AC65: Y
E66: =志工加退保明細_特定傷害!#REF! -> #REF! | F66: =志工加退保明細_特定傷害!#REF! -> #REF! | H66: =志工加退保明細_特定傷害!#REF! -> #REF! | I66: =志工加退保明細_特定傷害!#REF! -> #REF! | S66: A | T66: =志工加退保明細_特定傷害!#REF! -> #REF! | Z66: 9 | AA66: 1 | AB66: 90 | AC66: Y
E67: =志工加退保明細_特定傷害!#REF! -> #REF! | F67: =志工加退保明細_特定傷害!#REF! -> #REF! | H67: =志工加退保明細_特定傷害!#REF! -> #REF! | I67: =志工加退保明細_特定傷害!#REF! -> #REF! | S67: A | T67: =志工加退保明細_特定傷害!#REF! -> #REF! | Z67: 9 | AA67: 1 | AB67: 90 | AC67: Y
E68: =志工加退保明細_特定傷害!#REF! -> #REF! | F68: =志工加退保明細_特定傷害!#REF! -> #REF! | H68: =志工加退保明細_特定傷害!#REF! -> #REF! | I68: =志工加退保明細_特定傷害!#REF! -> #REF! | S68: A | T68: =志工加退保明細_特定傷害!#REF! -> #REF! | Z68: 9 | AA68: 1 | AB68: 90 | AC68: Y
E69: =志工加退保明細_特定傷害!#REF! -> #REF! | F69: =志工加退保明細_特定傷害!#REF! -> #REF! | H69: =志工加退保明細_特定傷害!#REF! -> #REF! | I69: =志工加退保明細_特定傷害!#REF! -> #REF! | S69: A | T69: =志工加退保明細_特定傷害!#REF! -> #REF! | Z69: 9 | AA69: 1 | AB69: 90 | AC69: Y
E70: =志工加退保明細_特定傷害!#REF! -> #REF! | F70: =志工加退保明細_特定傷害!#REF! -> #REF! | H70: =志工加退保明細_特定傷害!#REF! -> #REF! | I70: =志工加退保明細_特定傷害!#REF! -> #REF! | S70: A | T70: =志工加退保明細_特定傷害!#REF! -> #REF! | Z70: 9 | AA70: 1 | AB70: 90 | AC70: Y
E71: =志工加退保明細_特定傷害!#REF! -> #REF! | F71: =志工加退保明細_特定傷害!#REF! -> #REF! | H71: =志工加退保明細_特定傷害!#REF! -> #REF! | I71: =志工加退保明細_特定傷害!#REF! -> #REF! | S71: A | T71: =志工加退保明細_特定傷害!#REF! -> #REF! | Z71: 9 | AA71: 1 | AB71: 90 | AC71: Y
E72: =志工加退保明細_特定傷害!#REF! -> #REF! | F72: =志工加退保明細_特定傷害!#REF! -> #REF! | H72: =志工加退保明細_特定傷害!#REF! -> #REF! | I72: =志工加退保明細_特定傷害!#REF! -> #REF! | S72: A | T72: =志工加退保明細_特定傷害!#REF! -> #REF! | Z72: 9 | AA72: 1 | AB72: 90 | AC72: Y
E73: =志工加退保明細_特定傷害!#REF! -> #REF! | F73: =志工加退保明細_特定傷害!#REF! -> #REF! | H73: =志工加退保明細_特定傷害!#REF! -> #REF! | I73: =志工加退保明細_特定傷害!#REF! -> #REF! | S73: A | T73: =志工加退保明細_特定傷害!#REF! -> #REF! | Z73: 9 | AA73: 1 | AB73: 90 | AC73: Y
... E505: =志工加退保明細_特定傷害!#REF! -> #REF! | F505: =志工加退保明細_特定傷害!#REF! -> #REF! | H505: =志工加退保明細_特定傷害!#REF! -> #REF! | I505: =志工加退保明細_特定傷害!#REF! -> #REF! | S505: A | T505: =志工加退保明細_特定傷害!#REF! -> #REF! | Z505: 9 | AA505: 1 | AB505: 90 | AC505: Y

Sheet 工作表1
A1: 組別一
A2: 組別二
A3: 組別三

Sheet Sheet1
